Workbook

Sheet szkolenia
A1: Załącznik nr 3 do szacowania nr JRLP.FNX.26.2.2026 - Orientacyjny harmonogram szkoleń | G1: HARMONOGRAM
A2: Szczegółowy opis zakresu szkoleniowego | B2: akronim | C2: Forma szkolenia | D2: Wymiar czasowy | E2: Liczba grup | F2: dni robocze2 | G2: 2026 | S2: 2027 | AE2: 2028
A3: 1. Szkolenia z zakresu zarządzania | G3: styczeń_26 | H3: luty_26 | I3: marzec_26 | J3: kwiecień_26 | K3: maj_26 | L3: czerwiec_26 | M3: lipiec_26 | N3: sierpień_26 | O3: wrzesień_26 | P3: październik_26 | Q3: listopad_26 | R3: grudzień_26 | S3: styczeń_27 | T3: luty_27 | U3: marzec_27 | V3: kwiecień_27 | W3: maj_27 | X3: czerwiec_27 | Y3: lipiec_27 | Z3: sierpień_27 | AA3: wrzesień_27 | AB3: październik_27 | AC3: listopad_27 | AD3: grudzień_27 | AE3: styczeń_28 | AF3: luty_28 | AG3: marzec_28
A4: Bezpieczeństwo IT | B4: BIT | C4: on-line | D4: 16 | E4: 1 | F4: 2 | K4: BIT
A5: Bezpieczne użytkowanie zasobów i wymiana danych - szkolenie podstawowe | B5: BUZ_P | C5: on-line | D5: 16 | E5: 2 | F5: 2 | L5: BUZ_P | M5: BUZ_P
A6: Bezpieczne użytkowanie zasobów i wymiana danych - szkolenie utrwalające | B6: BUZ_Z | C6: on-line | D6: 8 | E6: 2 | F6: 1 | X6: BUZ_U | Y6: BUZ_U
A7: Zarządzanie procesem toku studiów (USOS) | B7: ZTS | C7: on-line | D7: 16 | E7: 1 | F7: 2 | O7: ZTS
A8: Wytwarzanie i archiwizacja dokumentów - szkolenie podstawowe | B8: WAD_P | C8: stacjonarne | D8: 16 | E8: 2 | F8: 2 | Q8: WAD_P | R8: WAD_P
A9: Wytwarzanie i archiwizacja dokumentów - szkolenie utrwalające | B9: WAD_Z | C9: stacjonarne | D9: 8 | E9: 2 | F9: 1 | AC9: WAD_U | AD9: WAD_U
A10: 2. Szkolenia z zakresu pozyskiwania funduszy na działalność ze źródeł pozabudżetowych
A11: Sponsoring w dobie social mediów | B11: SSM | C11: on-line | D11: 16 | E11: 1 | F11: 2 | O11: SSM
A12: Pozyskiwanie środków pozabudżetowych na działalność kulturalną i ofertę edukacyjną | B12: PZP | C12: on-line | D12: 16 | E12: 1 | F12: 2 | P12: PZP
A13: Partycypacyjne modele biznesowe dla instytucji kultury | B13: PMB | C13: on-line | D13: 16 | E13: 1 | F13: 2 | Q13: PHB
A14: 3. Szkolenia z zakresu wprowadzania innowacyjnych form uczestnictwa w kulturze
A15: Zarządzanie procesem wydawniczym ze szczególnym uwzględnieniem wydawnictw on-line | B15: ZPW | C15: on-line | D15: 16 | E15: 1 | F15: 2 | K15: ZPW
A16: Uczestnictwo w ofercie edukacyjnej i kulturalnej osób ze szczególnymi potrzebami | B16: UOF | C16: stacjonarne | D16: 16 | E16: 1 | F16: 2 | O16: UDF
A17: Przygotowanie on-line prezentacji oferty kult i eduj, ze szczególnym uwzględnieniem osób ze szcz.potrzebami | B17: PON | C17: on-line | D17: 16 | E17: 1 | F17: 2 | P17: PON
A18: 4. Szkolenia z zakresu organizacji działalności kulturalnej
A19: Zarządzanie projektami międzynarodowymi w zakresie działalności artystycznej | B19: ZPM | C19: on-line | D19: 16 | E19: 1 | F19: 2 | Q19: ZPM
A20: Budowanie zespołów projektowych | B20: BZP | C20: on-line | D20: 16 | E20: 1 | F20: 2 | R20: BZP
A21: 5. Szkolenia z zakresu transformacji cyfrowej
A22: Wybrane narzędzia cyfrowe i aplikacje wspierające proces dydaktyczny | B22: WNC | C22: on-line | D22: 16 | E22: 1 | F22: 2 | S22: WNC
A23: Otwarta Nauka (Open Science) | B23: ONA | C23: on-line | D23: 16 | E23: 1 | F23: 2 | T23: ONA
A24: Wybrane narzędzia cyfrowe i aplikacje wspierające działalność artystyczną i proces kreacji | B24: NCA | C24: stacjonarne | D24: 24 | E24: 1 | F24: 3 | U24: NCA
A25: Rozwijanie kompetencji cyfrowych w bibliotekach | B25: KCB | C25: hybrydowo | D25: 48 | E25: 1 | F25: 6 | U25: KCB | V25: KCB | W25: KCB
A26: Etyka sztucznej inteligencji. Prawne i etyczne aspekty wykorzystywania AI w procesie dydaktycznym, artystycznym oraz zarządzaniu | B26: ESI | C26: online | D26: 16 | E26: 2 | F26: 2 | V26: ESI | W26: ESI
A27: 6. Szkolenia z zakresu innowacji społecznych
A28: Pogłębione szkolenie z zakresu komunikacji bez przemocy | B28: KBP | C28: stacjonarne | D28: 16 | E28: 3 | F28: 2 | AA28: KBP | AB28: KBP
A29: Szkolenie z obszaru Design Thinking | B29: SDT | C29: stacjonarne | D29: 24 | E29: 3 | F29: 3 | V29: SDT | W29: SDT
A30: 7. Szkolenia z zakresu włączania społecznego
A31: Komunikacja i metodologia pracy z osobami neuratypowymi | B31: KMP | C31: on-line | D31: 16 | E31: 4 | F31: 2 | W31: KMP | X31: KMP | AA31: KMP | AB31: KMP
A32: Język inkluzywny, komunikacja inkluzywna | B32: JKI | C32: stacjonarne | D32: 16 | E32: 4 | F32: 2 | AC32: JKI | AD32: JKI | AE32: JKI | AF32: JKI
A33: Dokumenty dostępne (gr. początkująca i zaawansowana) | B33: DDO_P, DDO_Z | C33: stacjonarne | D33: 16 | E33: 3 | F33: 2 | U33: DDO_P | V33: DDO_P | X33: DDO_Z | Y33: DDO_Z
A34: Audiodeskrypcja, opisy alternatywne | B34: AOA | C34: online | D34: 16 | E34: 1 | F34: 2 | Q34: AOA
A35: 8. Szkolenia z zakresu działania w ramach kryzysu
A36: Pierwsza pomoc psychologiczna | B36: PPS | C36: stacjonarne | D36: 16 | E36: 3 | F36: 2 | AD36: PPS | AF36: PPS
A37: Pierwsza pomoc przedmedyczna | B37: PPM | C37: stacjonarne | D37: 16 | E37: 3 | F37: 2 | AC37: PPM | AE37: PPM
A38: Samopomoc w sytuacjach kryzysowych | B38: SSK | C38: stacjonarne | D38: 16 | E38: 2 | F38: 2 | AD38: SSK | AF38: SSK
A39: Bezpieczeństwo i higiena pracy | B39: BHP | C39: stacjonarne | D39: 16 | E39: 4 | F39: 2 | AC39: BHP | AE39: BHP | AG39: BHP
A40: 9. Dodatkowe szkolenia, poza Projektem
...

Sheet Arkusz1
A1: Kolumna1 | B1: nazwa z aktualnego Regulaminu Organizacyjnego | C1: liczba osób | D1: liczba osób zgodnie z SW | E1: szkoleń | F1: godzin | G1: DR
B2: Archiwum zakładowe | C2: 1 | D2: 0 | E2: =COUNTIF(szkolenia!$A$3:$F$44,B2) -> 0 | F2: =SUMIFS(szkolenia!$D$3:$D$44, szkolenia!#REF!, B2) -> #REF! | G2: =SUMIFS(szkolenia!$F$3:$F$44, szkolenia!#REF!, B2) -> #REF!
A3: Kierownik Administracyjny | E3: =COUNTIF(szkolenia!$A$3:$F$44,B3) -> 0 | F3: =SUMIFS(szkolenia!$D$3:$D$44, szkolenia!#REF!, B3) -> #REF! | G3: =SUMIFS(szkolenia!$F$3:$F$44, szkolenia!#REF!, B3) -> #REF!
A4: Kierownik Techniczny | B4: Kierownicy jednostek administracji | C4: 5 | D4: 3 | E4: =COUNTIF(szkolenia!$A$3:$F$44,B4) -> 0 | F4: =SUMIFS(szkolenia!$D$3:$D$44, szkolenia!#REF!, B4) -> #REF! | G4: =SUMIFS(szkolenia!$F$3:$F$44, szkolenia!#REF!, B4) -> #REF!
E5: =COUNTIF(szkolenia!$A$3:$F$44,B5) -> 0 | F5: =SUMIFS(szkolenia!$D$3:$D$44, szkolenia!#REF!, B5) -> #REF! | G5: =SUMIFS(szkolenia!$F$3:$F$44, szkolenia!#REF!, B5) -> #REF!
A6: Koordynatorka ds. Dostępności | B6: Koordynatorka ds. Dostępności | C6: 1 | D6: 1 | E6: =COUNTIF(szkolenia!$A$3:$F$44,B6) -> 0 | F6: =SUMIFS(szkolenia!$D$3:$D$44, szkolenia!#REF!, B6) -> #REF! | G6: =SUMIFS(szkolenia!$F$3:$F$44, szkolenia!#REF!, B6) -> #REF!
A7: Koordynatorka Pracy Artystycznej | B7: Koordynatorka Pracy Artystycznej | C7: 1 | D7: 1 | E7: =COUNTIF(szkolenia!$A$3:$F$44,B7) -> 0 | F7: =SUMIFS(szkolenia!$D$3:$D$44, szkolenia!#REF!, B7) -> #REF! | G7: =SUMIFS(szkolenia!$F$3:$F$44, szkolenia!#REF!, B7) -> #REF!
B8: Koordynatorka ds. Projektów | C8: 1 | D8: 0 | E8: =COUNTIF(szkolenia!$A$3:$F$44,B8) -> 0 | F8: =SUMIFS(szkolenia!$D$3:$D$44, szkolenia!#REF!, B8) -> #REF! | G8: =SUMIFS(szkolenia!$F$3:$F$44, szkolenia!#REF!, B8) -> #REF!
A9: Pracownicy Biblioteki | B9: Biblioteka | C9: 9 | D9: 9 | E9: =COUNTIF(szkolenia!$A$3:$F$44,B9) -> 0 | F9: =SUMIFS(szkolenia!$D$3:$D$44, szkolenia!#REF!, B9) -> #REF! | G9: =SUMIFS(szkolenia!$F$3:$F$44, szkolenia!#REF!, B9) -> #REF!
A10: Pracownicy Biura Kanclerza | B10: Biuro Kanclerza | C10: 1 | D10: 1 | E10: =COUNTIF(szkolenia!$A$3:$F$44,B10) -> 0 | F10: =SUMIFS(szkolenia!$D$3:$D$44, szkolenia!#REF!, B10) -> #REF! | G10: =SUMIFS(szkolenia!$F$3:$F$44, szkolenia!#REF!, B10) -> #REF!
A11: Pracownicy Biura Kolegium Zarządczego | B11: Biuro Kolegium Zarządczego | C11: 2 | D11: 2 | E11: =COUNTIF(szkolenia!$A$3:$F$44,B11) -> 0 | F11: =SUMIFS(szkolenia!$D$3:$D$44, szkolenia!#REF!, B11) -> #REF! | G11: =SUMIFS(szkolenia!$F$3:$F$44, szkolenia!#REF!, B11) -> #REF!
A12: Pracownicy Biura Obsługi Toku Studiów | B12: Biuro Obsługi Toku Studiów | C12: 5 | D12: 5 | E12: =COUNTIF(szkolenia!$A$3:$F$44,B12) -> 0 | F12: =SUMIFS(szkolenia!$D$3:$D$44, szkolenia!#REF!, B12) -> #REF! | G12: =SUMIFS(szkolenia!$F$3:$F$44, szkolenia!#REF!, B12) -> #REF!
A13: Pracownicy Biura Rektora | B13: Biuro Rektora | C13: 1 | D13: 1 | E13: =COUNTIF(szkolenia!$A$3:$F$44,B13) -> 0 | F13: =SUMIFS(szkolenia!$D$3:$D$44, szkolenia!#REF!, B13) -> #REF! | G13: =SUMIFS(szkolenia!$F$3:$F$44, szkolenia!#REF!, B13) -> #REF!
A14: Pracownicy Biura Współpracy Międzynarodowej | B14: Biuro Współpracy Międzynarodowej | C14: 2 | D14: 4 | E14: =COUNTIF(szkolenia!$A$3:$F$44,B14) -> 0 | F14: =SUMIFS(szkolenia!$D$3:$D$44, szkolenia!#REF!, B14) -> #REF! | G14: =SUMIFS(szkolenia!$F$3:$F$44, szkolenia!#REF!, B14) -> #REF!
B15: Biuro Ewaluacji Działalności Naukowej | C15: 1 | D15: 0 | E15: =COUNTIF(szkolenia!$A$3:$F$44,B15) -> 0 | F15: =SUMIFS(szkolenia!$D$3:$D$44, szkolenia!#REF!, B15) -> #REF! | G15: =SUMIFS(szkolenia!$F$3:$F$44, szkolenia!#REF!, B15) -> #REF!
A16: Pracownicy Działu Finansowego / FK | B16: Dział Finansowo-Księgowy | C16: 8 | D16: 8 | E16: =COUNTIF(szkolenia!$A$3:$F$44,B16) -> 0 | F16: =SUMIFS(szkolenia!$D$3:$D$44, szkolenia!#REF!, B16) -> #REF! | G16: =SUMIFS(szkolenia!$F$3:$F$44, szkolenia!#REF!, B16) -> #REF!
A17: Pracownicy Działu Kadr | B17: Dział Kadr | C17: 2 | D17: 2 | E17: =COUNTIF(szkolenia!$A$3:$F$44,B17) -> 0 | F17: =SUMIFS(szkolenia!$D$3:$D$44, szkolenia!#REF!, B17) -> #REF! | G17: =SUMIFS(szkolenia!$F$3:$F$44, szkolenia!#REF!, B17) -> #REF!
A18: Pracownicy Działu Promocji i stanowiska ds. promocji | B18: Dział Promocji i stanowiska ds. promocji | C18: 2 | D18: 3 | E18: =COUNTIF(szkolenia!$A$3:$F$44,B18) -> 0 | F18: =SUMIFS(szkolenia!$D$3:$D$44, szkolenia!#REF!, B18) -> #REF! | G18: =SUMIFS(szkolenia!$F$3:$F$44, szkolenia!#REF!, B18) -> #REF!
B19: Dział obsługi widowni i sprzedaży biletów | C19: 1 | D19: 0 | E19: =COUNTIF(szkolenia!$A$3:$F$44,B19) -> 0 | F19: =SUMIFS(szkolenia!$D$3:$D$44, szkolenia!#REF!, B19) -> #REF! | G19: =SUMIFS(szkolenia!$F$3:$F$44, szkolenia!#REF!, B19) -> #REF!
A20: Pracownicy IT | B20: Dział IT | C20: 2 | D20: 2 | E20: =COUNTIF(szkolenia!$A$3:$F$44,B20) -> 0 | F20: =SUMIFS(szkolenia!$D$3:$D$44, szkolenia!#REF!, B20) -> #REF! | G20: =SUMIFS(szkolenia!$F$3:$F$44, szkolenia!#REF!, B20) -> #REF!
A21: Pracownicy obsługi porządkowej i konserwatorzy, Pracownicy recepcji | B21: Dział administracyjny (Warszawa) | C21: 12 | D21: 12 | E21: =COUNTIF(szkolenia!$A$3:$F$44,B21) -> 0 | F21: =SUMIFS(szkolenia!$D$3:$D$44, szkolenia!#REF!, B21) -> #REF! | G21: =SUMIFS(szkolenia!$F$3:$F$44, szkolenia!#REF!, B21) -> #REF!
A22: Pracownicy pionu kanclerskiego | B22: pion kanclerski | C22: 3 | D22: 3 | E22: =COUNTIF(szkolenia!$A$3:$F$44,B22) -> 0 | F22: =SUMIFS(szkolenia!$D$3:$D$44, szkolenia!#REF!, B22) -> #REF! | G22: =SUMIFS(szkolenia!$F$3:$F$44, szkolenia!#REF!, B22) -> #REF!
A23: Pracownicy pionu rektorskiego | B23: pion rektorski | C23: 3 | D23: 3 | E23: =COUNTIF(szkolenia!$A$3:$F$44,B23) -> 0 | F23: =SUMIFS(szkolenia!$D$3:$D$44, szkolenia!#REF!, B23) -> #REF! | G23: =SUMIFS(szkolenia!$F$3:$F$44, szkolenia!#REF!, B23) -> #REF!
B24: Specjalista ds. obronnych | C24: 1 | D24: 0 | E24: =COUNTIF(szkolenia!$A$3:$F$44,B24) -> 0 | F24: =SUMIFS(szkolenia!$D$3:$D$44, szkolenia!#REF!, B24) -> #REF! | G24: =SUMIFS(szkolenia!$F$3:$F$44, szkolenia!#REF!, B24) -> #REF!
A25: Pracownicy sekcji akustyków | B25: DRIT - sekcja akustyczna | C25: 2 | D25: 2 | E25: =COUNTIF(szkolenia!$A$3:$F$44,B25) -> 0 | F25: =SUMIFS(szkolenia!$D$3:$D$44, szkolenia!#REF!, B25) -> #REF! | G25: =SUMIFS(szkolenia!$F$3:$F$44, szkolenia!#REF!, B25) -> #REF!
A26: Pracownicy sekcji oświetleniowców | B26: DRIT - sekcja oświetleniowa | C26: 2 | D26: 2 | E26: =COUNTIF(szkolenia!$A$3:$F$44,B26) -> 0 | F26: =SUMIFS(szkolenia!$D$3:$D$44, szkolenia!#REF!, B26) -> #REF! | G26: =SUMIFS(szkolenia!$F$3:$F$44, szkolenia!#REF!, B26) -> #REF!
A27: Pracownicy Studia AV | B27: DRIT - sekcja multimedialna | C27: 2 | D27: 2 | E27: =COUNTIF(szkolenia!$A$3:$F$44,B27) -> 0 | F27: =SUMIFS(szkolenia!$D$3:$D$44, szkolenia!#REF!, B27) -> #REF! | G27: =SUMIFS(szkolenia!$F$3:$F$44, szkolenia!#REF!, B27) -> #REF!
B28: DRIT ogólny | C28: 2 | D28: 0 | E28: =COUNTIF(szkolenia!$A$3:$F$44,B28) -> 0 | F28: =SUMIFS(szkolenia!$D$3:$D$44, szkolenia!#REF!, B28) -> #REF! | G28: =SUMIFS(szkolenia!$F$3:$F$44, szkolenia!#REF!, B28) -> #REF!
A29: Pracownicy Sekretariatu | B29: Dział administracyjno-techniczny (Białystok) | C29: 7 | D29: 1 | E29: =COUNTIF(szkolenia!$A$3:$F$44,B29) -> 0 | F29: =SUMIFS(szkolenia!$D$3:$D$44, szkolenia!#REF!, B29) -> #REF! | G29: =SUMIFS(szkolenia!$F$3:$F$44, szkolenia!#REF!, B29) -> #REF!
A30: WNA | B30: WNA | C30: 30 | D30: 30 | E30: =COUNTIF(szkolenia!$A$3:$F$44,B30) -> 0 | F30: =SUMIFS(szkolenia!$D$3:$D$44, szkolenia!#REF!, B30) -> #REF! | G30: =SUMIFS(szkolenia!$F$3:$F$44, szkolenia!#REF!, B30) -> #REF!
B31: Magazyny | C31: 1 | D31: 0 | E31: =COUNTIF(szkolenia!$A$3:$F$44,B31) -> 0 | F31: =SUMIFS(szkolenia!$D$3:$D$44, szkolenia!#REF!, B31) -> #REF! | G31: =SUMIFS(szkolenia!$F$3:$F$44, szkolenia!#REF!, B31) -> #REF!
B32: Specjalistka ds. formalno-prawnych Projektu | C32: 1 | D32: 0 | E32: =COUNTIF(szkolenia!$A$3:$F$44,B32) -> 0 | F32: =SUMIFS(szkolenia!$D$3:$D$44, szkolenia!#REF!, B32) -> #REF! | G32: =SUMIFS(szkolenia!$F$3:$F$44, szkolenia!#REF!, B32) -> #REF!
E33: =COUNTIF(szkolenia!$A$3:$F$44,B33) -> 0 | F33: =SUMIFS(szkolenia!$D$3:$D$44, szkolenia!#REF!, B33) -> #REF! | G33: =SUMIFS(szkolenia!$F$3:$F$44, szkolenia!#REF!, B33) -> #REF!
E34: =COUNTIF(szkolenia!$A$3:$F$44,B34) -> 0 | F34: =SUMIFS(szkolenia!$D$3:$D$44, szkolenia!#REF!, B34) -> #REF! | G34: =SUMIFS(szkolenia!$F$3:$F$44, szkolenia!#REF!, B34) -> #REF!
C37: =SUM(C2:C35) -> 111 | D37: =SUM(D2:D35) -> 97
